BEGIN:VCALENDAR
VERSION:2.0
PRODID:-//Plone.org//NONSGML plone.app.event//EN
X-WR-TIMEZONE:Brazil/East
BEGIN:VEVENT
SUMMARY:COMPROMISSOS AGENDADOS DO MÊS DE SETEMBRO DE 2018
DTSTART;TZID=Brazil/East;VALUE=DATE-TIME:20180909T110800
DTEND;TZID=Brazil/East;VALUE=DATE-TIME:20180909T170800
DTSTAMP;VALUE=DATE-TIME:20260422T110520Z
UID:4c74f5b36f3b45ed9632144cea9aeb69@www.itaituba.pa.leg.br
CREATED;VALUE=DATE-TIME:20181008T162747Z
DESCRIPTION:Agenda de compromissos do Presidente do Legislativo Municipal.
LAST-MODIFIED;VALUE=DATE-TIME:20181008T164509Z
URL:https://www.itaituba.pa.leg.br/institucional/agenda-do-presidente/agen
 da-de-compromissos-do-ano-de-2018/copy9_of_eventos-agendados
END:VEVENT
BEGIN:VTIMEZONE
TZID:Brazil/East
X-LIC-LOCATION:Brazil/East
BEGIN:STANDARD
DTSTART;VALUE=DATE-TIME:20180217T230000
TZNAME:BRT
TZOFFSETFROM:-0200
TZOFFSETTO:-0300
END:STANDARD
END:VTIMEZONE
END:VCALENDAR
