BEGIN:VCALENDAR
VERSION:2.0
PRODID:-//Plone.org//NONSGML plone.app.event//EN
X-WR-TIMEZONE:Brazil/East
BEGIN:VEVENT
SUMMARY:COMPROMISSOS AGENDADOS DO MÊS DE JANEIRO DE 2018
DTSTART;VALUE=DATE:20180111
DTEND;VALUE=DATE:20180112
DTSTAMP;VALUE=DATE-TIME:20260422T110522Z
UID:4c74f5b36f3b45ed9632144cea9aeb69@www.itaituba.pa.leg.br
CREATED;VALUE=DATE-TIME:20180813T170828Z
DESCRIPTION:Agenda de compromissos do Presidente do Legislativo Municipal 
 de Itaituba-PA.\nReuniões\, Audiências\, Sessões\, Viagens\, Visitas à
  Bairros e Comunidades. 
LAST-MODIFIED;VALUE=DATE-TIME:20180822T133130Z
LOCATION:Associação dos Amigos do Museu Aracy Paraguassu em Itaituba
URL:https://www.itaituba.pa.leg.br/institucional/agenda-do-presidente/agen
 da-de-compromissos-do-ano-de-2018/copy_of_eventos-agendados
END:VEVENT
END:VCALENDAR
